
BEGIN:VCALENDAR
VERSION:2.0
PRODID:-//MarkedsPartner AS//Umbraco CMS//NO
TIMEZONE-ID:Europe/Oslo
X-WR-TIMEZONE:Europe/Oslo


BEGIN:VEVENT
UID:0b6a45a35e6f4b24bc180112a56f02d5
URL:https://stavangernaering-2023.azurewebsites.net/en/events/archive/global-talent_okt23/
ORGANIZER;CN=Ola Normann:MAILTO:ola.normann@markedspartner.no
DTSTAMP:20231031T073000Z
DTSTART:20231031T073000Z
DTEND:20231031T083000Z
LAST-MODIFIED:20231031T132110Z
SUMMARY:Webinar: Attracting global talent to Stavanger
DESCRIPTION:Join us online in a conversation on talent across borders with Stavanger company Relocation As and Deel, operating worldwide.
X-ALT-DESC:Join us online in a conversation on talent across borders with Stavanger company Relocation As and Deel, operating worldwide.
LOCATION:Webinar 
END:VEVENT


END:VCALENDAR



