
BEGIN:VCALENDAR
VERSION:2.0
PRODID:-//MarkedsPartner AS//Umbraco CMS//NO
TIMEZONE-ID:Europe/Oslo
X-WR-TIMEZONE:Europe/Oslo


BEGIN:VEVENT
UID:0ce0006360574f4e936941d9fb73aff7
URL:https://stavangernaering-2023.azurewebsites.net/en/events/archive/get-in-the-xmas-mood_-december-2021/
ORGANIZER;CN=Ola Normann:MAILTO:ola.normann@markedspartner.no
DTSTAMP:20211219T150000Z
DTSTART:20211219T150000Z
DTEND:20211219T180000Z
LAST-MODIFIED:20211220T115247Z
SUMMARY:Get in the Christmas spirit
DESCRIPTION:Sunday is the fourth Sunday in Advent, and time to get in the Christmas spirit.  Please join us for a visit to the Christmas marked in Byparken, and a city walk to Valbergtårnet and Gamle Stavanger.
X-ALT-DESC:Sunday is the fourth Sunday in Advent, and time to get in the Christmas spirit.  Please join us for a visit to the Christmas marked in Byparken, and a city walk to Valbergt&#229;rnet and Gamle Stavanger.
LOCATION:Outside Rosenkildehuset, Strandkaien 6, 4005 Stavanger
END:VEVENT


END:VCALENDAR



