
BEGIN:VCALENDAR
VERSION:2.0
PRODID:-//MarkedsPartner AS//Umbraco CMS//NO
TIMEZONE-ID:Europe/Oslo
X-WR-TIMEZONE:Europe/Oslo


BEGIN:VEVENT
UID:dea6ba98f98941e297a72306bcf13748
URL:https://stavangernaering-2023.azurewebsites.net/en/events/archive/german-norwegian-energy-dialogue_190820/
ORGANIZER;CN=Ola Normann:MAILTO:ola.normann@markedspartner.no
DTSTAMP:20200819T080000Z
DTSTART:20200819T080000Z
DTEND:20200819T090000Z
LAST-MODIFIED:20200827T103246Z
SUMMARY:Ramping up CCS in European Industry
DESCRIPTION:Ramping up CCS in European Industry
X-ALT-DESC:Ramping up CCS in European Industry
LOCATION:Webinar
END:VEVENT


END:VCALENDAR



