
BEGIN:VCALENDAR
VERSION:2.0
PRODID:-//MarkedsPartner AS//Umbraco CMS//NO
TIMEZONE-ID:Europe/Oslo
X-WR-TIMEZONE:Europe/Oslo


BEGIN:VEVENT
UID:9bc68cee56fa4c4fb2f45a1b3630494f
URL:https://stavangernaering-2023.azurewebsites.net/en/events/archive/german-norwegian-energy-dialogue_100620/
ORGANIZER;CN=Ola Normann:MAILTO:ola.normann@markedspartner.no
DTSTAMP:20200610T080000Z
DTSTART:20200610T080000Z
DTEND:20200610T090000Z
LAST-MODIFIED:20200612T113333Z
SUMMARY:Achieving of Net-Zero Emissions in European Industry by 2050
DESCRIPTION:Hydrogen is seen by many as the energy carrier that may be the missing link in realizing the energy transition. Which framework conditions do we need for converting to a hydrogen society?
X-ALT-DESC:Hydrogen is seen by many as the energy carrier that may be the missing link in realizing the energy transition. Which framework conditions do we need for converting to a hydrogen society?
LOCATION:webinar
END:VEVENT


END:VCALENDAR



