
BEGIN:VCALENDAR
VERSION:2.0
PRODID:-//MarkedsPartner AS//Umbraco CMS//NO
TIMEZONE-ID:Europe/Oslo
X-WR-TIMEZONE:Europe/Oslo


BEGIN:VEVENT
UID:84f4f1bc85244097a1aa267980c7435a
URL:https://stavangernaering-2023.azurewebsites.net/en/events/archive/game-changer-technology_290920/
ORGANIZER;CN=Ola Normann:MAILTO:ola.normann@markedspartner.no
DTSTAMP:20200929T163000Z
DTSTART:20200929T163000Z
DTEND:20200929T190000Z
LAST-MODIFIED:20201002T065404Z
SUMMARY:Game changer technology: Drones & robotics
DESCRIPTION:Progress is very important, and sustainable development is a driver in most companies, communities and countries.
X-ALT-DESC:Progress is very important, and sustainable development is a driver in most companies, communities and countries.
LOCATION:Rosenkildehuset
END:VEVENT


END:VCALENDAR



