
BEGIN:VCALENDAR
VERSION:2.0
PRODID:-//MarkedsPartner AS//Umbraco CMS//NO
TIMEZONE-ID:Europe/Oslo
X-WR-TIMEZONE:Europe/Oslo


BEGIN:VEVENT
UID:981a095ad94a4501aa7a87f7e60d30a4
URL:https://stavangernaering-2023.azurewebsites.net/en/events/archive/frisbeegolf_220421/
ORGANIZER;CN=Ola Normann:MAILTO:ola.normann@markedspartner.no
DTSTAMP:20210510T160000Z
DTSTART:20210510T160000Z
DTEND:20210510T180000Z
LAST-MODIFIED:20210511T112836Z
SUMMARY:Test your disc skills
DESCRIPTION:Take this opportunity to try out a new sport.
X-ALT-DESC:Take this opportunity to try out a new sport.
LOCATION:Sandnes Disc Golf Club, Dyre Vaas vei 61, 4317 Sandnes
END:VEVENT


END:VCALENDAR



