
BEGIN:VCALENDAR
VERSION:2.0
PRODID:-//MarkedsPartner AS//Umbraco CMS//NO
TIMEZONE-ID:Europe/Oslo
X-WR-TIMEZONE:Europe/Oslo


BEGIN:VEVENT
UID:5b8d3786cc6c40d7aa26fd4ec7783d9d
URL:https://stavangernaering-2023.azurewebsites.net/en/events/archive/friday-social_191121/
ORGANIZER;CN=Ola Normann:MAILTO:ola.normann@markedspartner.no
DTSTAMP:20211119T180000Z
DTSTART:20211119T180000Z
DTEND:20211119T210000Z
LAST-MODIFIED:20211121T165938Z
SUMMARY:Fun Friday Networking!
DESCRIPTION:Sign up for a fun evening, socializing and meeting new people!
X-ALT-DESC:Sign up for a fun evening, socializing and meeting new people!
LOCATION:Rosenkildehuset, Strandkaien 6, 4005 Stavanger
END:VEVENT


END:VCALENDAR



