
BEGIN:VCALENDAR
VERSION:2.0
PRODID:-//MarkedsPartner AS//Umbraco CMS//NO
TIMEZONE-ID:Europe/Oslo
X-WR-TIMEZONE:Europe/Oslo


BEGIN:VEVENT
UID:711ee312fa374ff8a7d287e846ed93fa
URL:https://stavangernaering-2023.azurewebsites.net/en/events/archive/fjordcruise-cruise-to-ryfylke/
ORGANIZER;CN=Ola Normann:MAILTO:ola.normann@markedspartner.no
DTSTAMP:20250712T083000Z
DTSTART:20250712T083000Z
DTEND:20250712T133000Z
LAST-MODIFIED:20250715T075317Z
SUMMARY:Fjord cruise to Ryfylke and Farmers Market in Hjelmeland!
DESCRIPTION:Sailing through islands and fjords while immersing yourself in breathtaking scenery, on route to Hjelmeland’s Farmers Market. Here, local food producers offer a taste of the region with handcrafted cider, artisan cheese and baked goods, fresh produce and expertly smoked salmon, giving you an authentic and delicious glimpse into Norway’s culinary heritage.
X-ALT-DESC:Sailing through islands and fjords while immersing yourself in breathtaking scenery, on route to Hjelmeland’s Farmers Market. Here, local food producers offer a taste of the region with handcrafted cider, artisan cheese and baked goods, fresh produce and expertly smoked salmon, giving you an authentic and delicious glimpse into Norway’s culinary heritage.
LOCATION:Ryfylke
END:VEVENT


END:VCALENDAR



