
BEGIN:VCALENDAR
VERSION:2.0
PRODID:-//MarkedsPartner AS//Umbraco CMS//NO
TIMEZONE-ID:Europe/Oslo
X-WR-TIMEZONE:Europe/Oslo


BEGIN:VEVENT
UID:85e8c5c5c032490ca0643434ec72c738
URL:https://stavangernaering-2023.azurewebsites.net/en/events/archive/fishing-in-norway_190520/
ORGANIZER;CN=Ola Normann:MAILTO:ola.normann@markedspartner.no
DTSTAMP:20200519T180000Z
DTSTART:20200519T180000Z
DTEND:20200519T191500Z
LAST-MODIFIED:20200612T113332Z
SUMMARY:Webinar: Fishing in Norway 
DESCRIPTION:Introduction to fishing in freshwater in Norway with experienced instructors from Stavanger og Rogaland Jeger- og Fiskerforening.
X-ALT-DESC:Introduction to fishing in freshwater in Norway with experienced instructors from Stavanger og Rogaland Jeger- og Fiskerforening.
LOCATION:Webinar
END:VEVENT


END:VCALENDAR



