
BEGIN:VCALENDAR
VERSION:2.0
PRODID:-//MarkedsPartner AS//Umbraco CMS//NO
TIMEZONE-ID:Europe/Oslo
X-WR-TIMEZONE:Europe/Oslo


BEGIN:VEVENT
UID:4bedafb0b36148d191218189d9234076
URL:https://stavangernaering-2023.azurewebsites.net/en/events/archive/fishing-for-real/
ORGANIZER;CN=Ola Normann:MAILTO:ola.normann@markedspartner.no
DTSTAMP:20200526T160000Z
DTSTART:20200526T160000Z
DTEND:20200526T190000Z
LAST-MODIFIED:20200612T113333Z
SUMMARY:Explore fishing in fresh water
DESCRIPTION:Explore fishing in fresh water with Stavanger & Rogaland Jeger og Fiskeforening at Stokkavannet, Stavanger.
X-ALT-DESC:Explore fishing in fresh water with Stavanger &amp; Rogaland Jeger og Fiskeforening at Stokkavannet, Stavanger.
LOCATION:Speidermarka, Stokkavannet
END:VEVENT


END:VCALENDAR



