
BEGIN:VCALENDAR
VERSION:2.0
PRODID:-//MarkedsPartner AS//Umbraco CMS//NO
TIMEZONE-ID:Europe/Oslo
X-WR-TIMEZONE:Europe/Oslo


BEGIN:VEVENT
UID:721ea6ac706d432d83cb5804aa5b1990
URL:https://stavangernaering-2023.azurewebsites.net/en/events/archive/fishing-and-cooking-a-summer-meal_160620/
ORGANIZER;CN=Ola Normann:MAILTO:ola.normann@markedspartner.no
DTSTAMP:20200616T160000Z
DTSTART:20200616T160000Z
DTEND:20200616T183000Z
LAST-MODIFIED:20200622T145333Z
SUMMARY:Fishing and cooking a summer meal
DESCRIPTION:A traditional Norwegian summer meal  is Macerel and cucumber salad and cold rhubarb soup. Please join us for this unique event with a nature and food entusiast,  Iver Jan Leren.
X-ALT-DESC:A traditional Norwegian summer meal  is Macerel and cucumber salad and cold rhubarb soup. Please join us for this unique event with a nature and food entusiast,  Iver Jan Leren.
LOCATION:Trollskogen, Hundv&#229;g
END:VEVENT


END:VCALENDAR



