
BEGIN:VCALENDAR
VERSION:2.0
PRODID:-//MarkedsPartner AS//Umbraco CMS//NO
TIMEZONE-ID:Europe/Oslo
X-WR-TIMEZONE:Europe/Oslo


BEGIN:VEVENT
UID:9b40a09ed75440fea62f2db1cb84cc63
URL:https://stavangernaering-2023.azurewebsites.net/en/events/archive/find-your-thesis_260924/
ORGANIZER;CN=Ola Normann:MAILTO:ola.normann@markedspartner.no
DTSTAMP:20240926T130000Z
DTSTART:20240926T130000Z
DTEND:20240926T150000Z
LAST-MODIFIED:20240927T113941Z
SUMMARY:Find your thesis at Innoasis 
DESCRIPTION:This year there is a specific Find Your Thesis event in collaboration with Future Energy Hub at UiS. Here companies will present potential bachelor or master theses in the area of urban energy for students, giving students a unique chance to find a relevant thesis.
X-ALT-DESC:This year there is a specific Find Your Thesis event in collaboration with Future Energy Hub at UiS. Here companies will present potential bachelor or master theses in the area of urban energy for students, giving students a unique chance to find a relevant thesis.
LOCATION:Innoasis, Sverdrups Gate 27, 4007 Stavanger
END:VEVENT


END:VCALENDAR



