
BEGIN:VCALENDAR
VERSION:2.0
PRODID:-//MarkedsPartner AS//Umbraco CMS//NO
TIMEZONE-ID:Europe/Oslo
X-WR-TIMEZONE:Europe/Oslo


BEGIN:VEVENT
UID:f3b5514b533a45988a84d248542d0ba5
URL:https://stavangernaering-2023.azurewebsites.net/en/events/archive/festival-season_110320/
ORGANIZER;CN=Ola Normann:MAILTO:ola.normann@markedspartner.no
DTSTAMP:20200311T090000Z
DTSTART:20200311T090000Z
DTEND:20200311T110000Z
LAST-MODIFIED:20200612T113330Z
SUMMARY:Festival, Conference  and Expo season 2020- Postponed!
DESCRIPTION:Want to work as a volunteer or learn more about what's going on in the Stavanger -region 2020. Lots of opportunities!
X-ALT-DESC:Want to work as a volunteer or learn more about what&#39;s going on in the Stavanger -region 2020. Lots of opportunities!
LOCATION:Rosenkildehuset
END:VEVENT


END:VCALENDAR



