
BEGIN:VCALENDAR
VERSION:2.0
PRODID:-//MarkedsPartner AS//Umbraco CMS//NO
TIMEZONE-ID:Europe/Oslo
X-WR-TIMEZONE:Europe/Oslo


BEGIN:VEVENT
UID:c225f39b8ce743a8a0afd0d570d4cd81
URL:https://stavangernaering-2023.azurewebsites.net/en/events/archive/familiekonsert_141224/
ORGANIZER;CN=Ola Normann:MAILTO:ola.normann@markedspartner.no
DTSTAMP:20241214T130000Z
DTSTART:20241214T130000Z
DTEND:20241214T140000Z
LAST-MODIFIED:20241217T074607Z
SUMMARY:Ønskestjernen - a family concert 
DESCRIPTION:We invite you to a wonderful family concert to experience the beautiful music of The Stavanger Symphony Orchestra together with your little ones and get into the holiday spirit!
X-ALT-DESC:We invite you to a wonderful family concert to experience the beautiful music of The Stavanger Symphony Orchestra together with your little ones and get into the holiday spirit!
LOCATION:Stavanger Konserthus 
END:VEVENT


END:VCALENDAR



