
BEGIN:VCALENDAR
VERSION:2.0
PRODID:-//MarkedsPartner AS//Umbraco CMS//NO
TIMEZONE-ID:Europe/Oslo
X-WR-TIMEZONE:Europe/Oslo


BEGIN:VEVENT
UID:afaf13555cb8486eaecaff2fae625745
URL:https://stavangernaering-2023.azurewebsites.net/en/events/archive/factory-tour-figgjo_des2022/
ORGANIZER;CN=Ola Normann:MAILTO:ola.normann@markedspartner.no
DTSTAMP:20221209T083000Z
DTSTART:20221209T083000Z
DTEND:20221209T110000Z
LAST-MODIFIED:20221219T070815Z
SUMMARY:Factory visit: Figgjo
DESCRIPTION:Get the Figgjo experience and see how sustainable porcelain is made!
X-ALT-DESC:Get the Figgjo experience and see how sustainable porcelain is made!
LOCATION:Figgjo As, &#197;slandsbakken 1, 4332 Figgjo
END:VEVENT


END:VCALENDAR



