
BEGIN:VCALENDAR
VERSION:2.0
PRODID:-//MarkedsPartner AS//Umbraco CMS//NO
TIMEZONE-ID:Europe/Oslo
X-WR-TIMEZONE:Europe/Oslo


BEGIN:VEVENT
UID:ae658df605384809b808ad5111179e40
URL:https://stavangernaering-2023.azurewebsites.net/en/events/archive/explore-your-neighborhood_150921/
ORGANIZER;CN=Ola Normann:MAILTO:ola.normann@markedspartner.no
DTSTAMP:20210915T170000Z
DTSTART:20210915T170000Z
DTEND:20210915T190000Z
LAST-MODIFIED:20210916T185350Z
SUMMARY:Outdoor life all year round
DESCRIPTION:Outdoor life in Norway - all year round.  Why is outdoor life such an important factor of the Norwegian lifestyle?
X-ALT-DESC:Outdoor life in Norway - all year round.  Why is outdoor life such an important factor of the Norwegian lifestyle?
LOCATION:Rosenkildehuset
END:VEVENT


END:VCALENDAR



