
BEGIN:VCALENDAR
VERSION:2.0
PRODID:-//MarkedsPartner AS//Umbraco CMS//NO
TIMEZONE-ID:Europe/Oslo
X-WR-TIMEZONE:Europe/Oslo


BEGIN:VEVENT
UID:cb011fb9b7704afbaf1db2da716f1352
URL:https://stavangernaering-2023.azurewebsites.net/en/events/archive/explore-summer-secrets_220621/
ORGANIZER;CN=Ola Normann:MAILTO:ola.normann@markedspartner.no
DTSTAMP:20210622T163000Z
DTSTART:20210622T163000Z
DTEND:20210622T190000Z
LAST-MODIFIED:20210629T184914Z
SUMMARY:Explore summer secrets 
DESCRIPTION:As soon as summer gets a firm grip on Norway, you’ll see the locals out and about, enjoying longer days and shorter nights.
X-ALT-DESC:As soon as summer gets a firm grip on Norway, you’ll see the locals out and about, enjoying longer days and shorter nights.
LOCATION:Stavanger
END:VEVENT


END:VCALENDAR



