
BEGIN:VCALENDAR
VERSION:2.0
PRODID:-//MarkedsPartner AS//Umbraco CMS//NO
TIMEZONE-ID:Europe/Oslo
X-WR-TIMEZONE:Europe/Oslo


BEGIN:VEVENT
UID:7100ccdce2bc4d2e92cd09985779dc0f
URL:https://stavangernaering-2023.azurewebsites.net/en/events/archive/equinor-supplier-day_211021/
ORGANIZER;CN=Ola Normann:MAILTO:ola.normann@markedspartner.no
DTSTAMP:20211021T120000Z
DTSTART:20211021T120000Z
DTEND:20211021T140000Z
LAST-MODIFIED:20211021T131557Z
SUMMARY:Equinor Supplier Day
DESCRIPTION:Equinor will share their thoughts on energy transition: challenges, possibilities and the energy future.
X-ALT-DESC:Equinor will share their thoughts on energy transition: challenges, possibilities and the energy future.
LOCATION:Online
END:VEVENT


END:VCALENDAR



