
BEGIN:VCALENDAR
VERSION:2.0
PRODID:-//MarkedsPartner AS//Umbraco CMS//NO
TIMEZONE-ID:Europe/Oslo
X-WR-TIMEZONE:Europe/Oslo


BEGIN:VEVENT
UID:9a2bfd8017a74ba39f5b42414d3e9438
URL:https://stavangernaering-2023.azurewebsites.net/en/events/archive/equinor-supplier-day2022/
ORGANIZER;CN=Ola Normann:MAILTO:ola.normann@markedspartner.no
DTSTAMP:20220831T120000Z
DTSTART:20220831T120000Z
DTEND:20220831T153000Z
LAST-MODIFIED:20220902T102503Z
SUMMARY:Equinor Global Supplier Day 2022
DESCRIPTION:This year’s topic is accelerating the energy transition through synergies, integration and innovation together with Equinor suppliers.
X-ALT-DESC:This year’s topic is accelerating the energy transition through synergies, integration and innovation together with Equinor suppliers.
LOCATION:ONS, Stavanger Forus
END:VEVENT


END:VCALENDAR



