
BEGIN:VCALENDAR
VERSION:2.0
PRODID:-//MarkedsPartner AS//Umbraco CMS//NO
TIMEZONE-ID:Europe/Oslo
X-WR-TIMEZONE:Europe/Oslo


BEGIN:VEVENT
UID:ac0bf182bb9e4f13a14f1ed788113066
URL:https://stavangernaering-2023.azurewebsites.net/en/events/archive/equinor-global-supplier-day-2023/
ORGANIZER;CN=Ola Normann:MAILTO:ola.normann@markedspartner.no
DTSTAMP:20231019T120000Z
DTSTART:20231019T120000Z
DTEND:20231019T150000Z
LAST-MODIFIED:20231020T060808Z
SUMMARY:Equinor Global Supplier Day 2023
DESCRIPTION:This year’s theme is «delivering together in the energy transition». Equinor will give an update on our project development portfolio and activities going forward in oil and gas, low carbon solutions and renewables. You will also get the opportunity to connect with Equinor representatives, ask questions and explore how we can deliver together in the energy transition.
X-ALT-DESC:This year’s theme is &#171;delivering together in the energy transition&#187;. Equinor will give an update on our project development portfolio and activities going forward in oil and gas, low carbon solutions and renewables. You will also get the opportunity to connect with Equinor representatives, ask questions and explore how we can deliver together in the energy transition.
LOCATION:OTD, Stavanger Forum
END:VEVENT


END:VCALENDAR



