
BEGIN:VCALENDAR
VERSION:2.0
PRODID:-//MarkedsPartner AS//Umbraco CMS//NO
TIMEZONE-ID:Europe/Oslo
X-WR-TIMEZONE:Europe/Oslo


BEGIN:VEVENT
UID:9e522d023d7a4bcabecc98f6e35f5d3a
URL:https://stavangernaering-2023.azurewebsites.net/en/events/archive/entrepreneur_february-2022/
ORGANIZER;CN=Ola Normann:MAILTO:ola.normann@markedspartner.no
DTSTAMP:20220222T160000Z
DTSTART:20220222T160000Z
DTEND:20220222T190000Z
LAST-MODIFIED:20220223T204415Z
SUMMARY:Entrepreneur 2022: Inspiration!
DESCRIPTION:Business pioneers who take a lead!
To all you future entrepreneurs out there  - this is your chance to be inspired, meet new people and come up with new ideas! Join us for this unique English version of Pioner 2022.
X-ALT-DESC:Business pioneers who take a lead!
To all you future entrepreneurs out there  - this is your chance to be inspired, meet new people and come up with new ideas! Join us for this unique English version of Pioner 2022.
LOCATION:FOMO Works, Grenseveien 21, 4313 Sandnes
END:VEVENT


END:VCALENDAR



