
BEGIN:VCALENDAR
VERSION:2.0
PRODID:-//MarkedsPartner AS//Umbraco CMS//NO
TIMEZONE-ID:Europe/Oslo
X-WR-TIMEZONE:Europe/Oslo


BEGIN:VEVENT
UID:2066d264b8c64de187b72ae4eb2cd541
URL:https://stavangernaering-2023.azurewebsites.net/en/events/archive/entrepreneur_281020/
ORGANIZER;CN=Ola Normann:MAILTO:ola.normann@markedspartner.no
DTSTAMP:20201028T173000Z
DTSTART:20201028T173000Z
DTEND:20201028T200000Z
LAST-MODIFIED:20201029T080101Z
SUMMARY:Entrepreneur2020: Business models
DESCRIPTION:Inspirational Entrepreneurship!
X-ALT-DESC:Inspirational Entrepreneurship!
LOCATION:Rosenkildehuset
END:VEVENT


END:VCALENDAR



