
BEGIN:VCALENDAR
VERSION:2.0
PRODID:-//MarkedsPartner AS//Umbraco CMS//NO
TIMEZONE-ID:Europe/Oslo
X-WR-TIMEZONE:Europe/Oslo


BEGIN:VEVENT
UID:02cda200ec3847369dcb6a4b8c0259c6
URL:https://stavangernaering-2023.azurewebsites.net/en/events/archive/entrepreneur_280921/
ORGANIZER;CN=Ola Normann:MAILTO:ola.normann@markedspartner.no
DTSTAMP:20210928T163000Z
DTSTART:20210928T163000Z
DTEND:20210928T190000Z
LAST-MODIFIED:20210928T195943Z
SUMMARY:Entrepreneur 2021:  Circular economy
DESCRIPTION:A circular economy aims to maintain the value of products, materials and resources for as long as possible by returning them into the product cycle at the end of their use, while minimizing the generation of waste. How is the regional companies working and are they able to create new businesses?
X-ALT-DESC:A circular economy aims to maintain the value of products, materials and resources for as long as possible by returning them into the product cycle at the end of their use, while minimizing the generation of waste. How is the regional companies working and are they able to create new businesses?
LOCATION:Rosenkildehuset
END:VEVENT


END:VCALENDAR



