
BEGIN:VCALENDAR
VERSION:2.0
PRODID:-//MarkedsPartner AS//Umbraco CMS//NO
TIMEZONE-ID:Europe/Oslo
X-WR-TIMEZONE:Europe/Oslo


BEGIN:VEVENT
UID:80e57f0449004aeb91c6294d99e5d463
URL:https://stavangernaering-2023.azurewebsites.net/en/events/archive/entrepreneur_280121/
ORGANIZER;CN=Ola Normann:MAILTO:ola.normann@markedspartner.no
DTSTAMP:20210128T180000Z
DTSTART:20210128T180000Z
DTEND:20210128T191500Z
LAST-MODIFIED:20210129T154712Z
SUMMARY:Entrepreneur 2021: Create growth and dare to be different
DESCRIPTION:WEBINAR: This event is for anyone wanting to find out more about start-ups and scaleups, and just enjoy being involved in what is going on in the region.
X-ALT-DESC:WEBINAR: This event is for anyone wanting to find out more about start-ups and scaleups, and just enjoy being involved in what is going on in the region.
LOCATION:Digital conference
END:VEVENT


END:VCALENDAR



