
BEGIN:VCALENDAR
VERSION:2.0
PRODID:-//MarkedsPartner AS//Umbraco CMS//NO
TIMEZONE-ID:Europe/Oslo
X-WR-TIMEZONE:Europe/Oslo


BEGIN:VEVENT
UID:5f1f182c60444ca784d3686499d6e8b5
URL:https://stavangernaering-2023.azurewebsites.net/en/events/archive/entrepreneur_250122/
ORGANIZER;CN=Ola Normann:MAILTO:ola.normann@markedspartner.no
DTSTAMP:20220125T180000Z
DTSTART:20220125T180000Z
DTEND:20220125T193000Z
LAST-MODIFIED:20220125T193545Z
SUMMARY:Entrepreneur 2022:  How to Start a new Business
DESCRIPTION:DIGITAL CONFERENCE: Starting a new business? Learn where to begin and how to achieve success. Welcome to meet the start-up environment  in the Stavanger-region, sharing their best advice and network to get started.
X-ALT-DESC:DIGITAL CONFERENCE: Starting a new business? Learn where to begin and how to achieve success. Welcome to meet the start-up environment  in the Stavanger-region, sharing their best advice and network to get started.
LOCATION:Webinar
END:VEVENT


END:VCALENDAR



