
BEGIN:VCALENDAR
VERSION:2.0
PRODID:-//MarkedsPartner AS//Umbraco CMS//NO
TIMEZONE-ID:Europe/Oslo
X-WR-TIMEZONE:Europe/Oslo


BEGIN:VEVENT
UID:d0dc7d7853814d9e9b42d6df03309d0b
URL:https://stavangernaering-2023.azurewebsites.net/en/events/archive/entrepreneur_200121/
ORGANIZER;CN=Ola Normann:MAILTO:ola.normann@markedspartner.no
DTSTAMP:20210120T173000Z
DTSTART:20210120T173000Z
DTEND:20210120T184500Z
LAST-MODIFIED:20210121T084618Z
SUMMARY:Entrepreneur 2021: Marketing and sales from an entrepreneur’s perspective
DESCRIPTION:WEBINAR: Strategic approach to marketing and sales is a prerequisite for succeeding as an entrepreneur. Despite this, most founders choose to place too much emphasis on the product or service in the belief that a good product alone will create demand.
X-ALT-DESC:WEBINAR: Strategic approach to marketing and sales is a prerequisite for succeeding as an entrepreneur. Despite this, most founders choose to place too much emphasis on the product or service in the belief that a good product alone will create demand.
LOCATION:Virtual conference
END:VEVENT


END:VCALENDAR



