
BEGIN:VCALENDAR
VERSION:2.0
PRODID:-//MarkedsPartner AS//Umbraco CMS//NO
TIMEZONE-ID:Europe/Oslo
X-WR-TIMEZONE:Europe/Oslo


BEGIN:VEVENT
UID:90bd31a3a858496fad8a373d0d8cef8f
URL:https://stavangernaering-2023.azurewebsites.net/en/events/archive/entrepreneur2020_180220/
ORGANIZER;CN=Ola Normann:MAILTO:ola.normann@markedspartner.no
DTSTAMP:20200218T173000Z
DTSTART:20200218T173000Z
DTEND:20200218T200000Z
LAST-MODIFIED:20200612T113329Z
SUMMARY:Entrepreneur 2020: Design thinking!
DESCRIPTION:Development based on sustainable principles.
X-ALT-DESC:Development based on sustainable principles.
LOCATION:Rosenkildehuset
END:VEVENT


END:VCALENDAR



