
BEGIN:VCALENDAR
VERSION:2.0
PRODID:-//MarkedsPartner AS//Umbraco CMS//NO
TIMEZONE-ID:Europe/Oslo
X-WR-TIMEZONE:Europe/Oslo


BEGIN:VEVENT
UID:9bb6acdf455a481ab1d6f1cdde60a2b4
URL:https://stavangernaering-2023.azurewebsites.net/en/events/archive/entrepreneur2020_080920/
ORGANIZER;CN=Ola Normann:MAILTO:ola.normann@markedspartner.no
DTSTAMP:20200908T150000Z
DTSTART:20200908T150000Z
DTEND:20200908T170000Z
LAST-MODIFIED:20200910T134736Z
SUMMARY:ENTREPRENEUR 2020: Game-changing technology
DESCRIPTION:Growth is very important at all levels, and sustainable development is a driver in most companies, communities and countries.
X-ALT-DESC:Growth is very important at all levels, and sustainable development is a driver in most companies, communities and countries.
LOCATION:Beyonder, Stokkamyrveien 30, Sandnes (Forus).
END:VEVENT


END:VCALENDAR



