
BEGIN:VCALENDAR
VERSION:2.0
PRODID:-//MarkedsPartner AS//Umbraco CMS//NO
TIMEZONE-ID:Europe/Oslo
X-WR-TIMEZONE:Europe/Oslo


BEGIN:VEVENT
UID:c5435537d9e345bcaf11c5cfc1f6fd11
URL:https://stavangernaering-2023.azurewebsites.net/en/events/archive/entrepreneur-sustainable-fashion_nov-2022/
ORGANIZER;CN=Ola Normann:MAILTO:ola.normann@markedspartner.no
DTSTAMP:20221110T173000Z
DTSTART:20221110T173000Z
DTEND:20221110T203000Z
LAST-MODIFIED:20221111T115414Z
SUMMARY:Sustainable fashion
DESCRIPTION:The Stavanger-region is bursting with innovative entrepreneurs and designers. This evening is all about inspiration, creativity, quality and sustainability.
X-ALT-DESC:The Stavanger-region is bursting with innovative entrepreneurs and designers. This evening is all about inspiration, creativity, quality and sustainability.
LOCATION:Rosenkildehuset, Strandkaien 6, 4005 Stavanger
END:VEVENT


END:VCALENDAR



