
BEGIN:VCALENDAR
VERSION:2.0
PRODID:-//MarkedsPartner AS//Umbraco CMS//NO
TIMEZONE-ID:Europe/Oslo
X-WR-TIMEZONE:Europe/Oslo


BEGIN:VEVENT
UID:a3730bedd5594758a0cdbe5053ec781f
URL:https://stavangernaering-2023.azurewebsites.net/en/events/archive/entrepreneur-fashion_161121/
ORGANIZER;CN=Ola Normann:MAILTO:ola.normann@markedspartner.no
DTSTAMP:20211116T173000Z
DTSTART:20211116T173000Z
DTEND:20211116T200000Z
LAST-MODIFIED:20211121T170021Z
SUMMARY:Entrepreneur: FASHION
DESCRIPTION:The Stavanger-region has many innovative entrepreneurs, and this evening is all about fashion.
X-ALT-DESC:The Stavanger-region has many innovative entrepreneurs, and this evening is all about fashion.
LOCATION:Rosenkildehuset
END:VEVENT


END:VCALENDAR



