
BEGIN:VCALENDAR
VERSION:2.0
PRODID:-//MarkedsPartner AS//Umbraco CMS//NO
TIMEZONE-ID:Europe/Oslo
X-WR-TIMEZONE:Europe/Oslo


BEGIN:VEVENT
UID:453fb71edcc240c0bf04cf5f1ac6afbc
URL:https://stavangernaering-2023.azurewebsites.net/en/events/archive/entrepreneur-2019-new-opportunities-in-the-energy-sector/
ORGANIZER;CN=Ola Normann:MAILTO:ola.normann@markedspartner.no
DTSTAMP:20191105T173000Z
DTSTART:20191105T173000Z
DTEND:20191105T200000Z
LAST-MODIFIED:20200612T113326Z
SUMMARY:Entrepreneur 2019: New opportunities in the energy sector
DESCRIPTION:The start of​ any company development is a defined need or goal.  The world's population is growing and there is an increased need for energy. This meeting will focus on new opportunities in the energy sector and how the Stavanger-region can be a leader of development.
X-ALT-DESC:The start of​ any company development is a defined need or goal.  The world&#39;s population is growing and there is an increased need for energy. This meeting will focus on new opportunities in the energy sector and how the Stavanger-region can be a leader of development.
LOCATION:Rosenkildehuset
END:VEVENT


END:VCALENDAR



