
BEGIN:VCALENDAR
VERSION:2.0
PRODID:-//MarkedsPartner AS//Umbraco CMS//NO
TIMEZONE-ID:Europe/Oslo
X-WR-TIMEZONE:Europe/Oslo


BEGIN:VEVENT
UID:c0f1e80c1abe4d39bf025da4d94719eb
URL:https://stavangernaering-2023.azurewebsites.net/en/events/archive/energyshow_201021/
ORGANIZER;CN=Ola Normann:MAILTO:ola.normann@markedspartner.no
DTSTAMP:20211020T150000Z
DTSTART:20211020T150000Z
DTEND:20211020T200000Z
LAST-MODIFIED:20211021T131531Z
SUMMARY:Energyshow
DESCRIPTION:In addition to OTD Energy - there is Energyshow in DNB Arena with famous artist!
X-ALT-DESC:In addition to OTD Energy - there is Energyshow in DNB Arena with famous artist!
LOCATION:DNB Arena Stavanger
END:VEVENT


END:VCALENDAR



