
BEGIN:VCALENDAR
VERSION:2.0
PRODID:-//MarkedsPartner AS//Umbraco CMS//NO
TIMEZONE-ID:Europe/Oslo
X-WR-TIMEZONE:Europe/Oslo


BEGIN:VEVENT
UID:4c1c45d0d24f45da808a790eb2576e7b
URL:https://stavangernaering-2023.azurewebsites.net/en/events/archive/energy-partners/
ORGANIZER;CN=Ola Normann:MAILTO:ola.normann@markedspartner.no
DTSTAMP:20220215T160000Z
DTSTART:20220215T160000Z
DTEND:20220215T180000Z
LAST-MODIFIED:20220216T113933Z
SUMMARY:Hydrogen & CCS Symposium
DESCRIPTION:Norwegian Energy Partners invite you to a vrtual Energy Symposium with focus on the Hydrogen (H2) and Carbon Capture and Storage (CCS) value chains.
X-ALT-DESC:Norwegian Energy Partners invite you to a vrtual Energy Symposium with focus on the Hydrogen (H2) and Carbon Capture and Storage (CCS) value chains.
LOCATION:Online
END:VEVENT


END:VCALENDAR



