
BEGIN:VCALENDAR
VERSION:2.0
PRODID:-//MarkedsPartner AS//Umbraco CMS//NO
TIMEZONE-ID:Europe/Oslo
X-WR-TIMEZONE:Europe/Oslo


BEGIN:VEVENT
UID:0066faaad8f24ab195df97f185c98a95
URL:https://stavangernaering-2023.azurewebsites.net/en/events/archive/energy-norway-2023/
ORGANIZER;CN=Ola Normann:MAILTO:ola.normann@markedspartner.no
DTSTAMP:20230313T080000Z
DTSTART:20230313T080000Z
DTEND:20230313T080000Z
LAST-MODIFIED:20230314T195254Z
SUMMARY:Energy Norway 2023, 13-15th of March @UiS
DESCRIPTION:Energy Norway 2023 is a meeting place for subsurface professionals in Norway and international communities, policy makers, regulatory bodies, and students.
X-ALT-DESC:Energy Norway 2023 is a meeting place for subsurface professionals in Norway and international communities, policy makers, regulatory bodies, and students.
LOCATION:Tjodhallen, University of Stavanger, 4021 Stavanger
END:VEVENT


END:VCALENDAR



