
BEGIN:VCALENDAR
VERSION:2.0
PRODID:-//MarkedsPartner AS//Umbraco CMS//NO
TIMEZONE-ID:Europe/Oslo
X-WR-TIMEZONE:Europe/Oslo


BEGIN:VEVENT
UID:d26e2d677d0e4fa2b2d0759150a1151e
URL:https://stavangernaering-2023.azurewebsites.net/en/events/archive/energy-for-the-future_020920/
ORGANIZER;CN=Ola Normann:MAILTO:ola.normann@markedspartner.no
DTSTAMP:20200902T163000Z
DTSTART:20200902T163000Z
DTEND:20200902T183000Z
LAST-MODIFIED:20200904T061030Z
SUMMARY:Energy for the future
DESCRIPTION:How could we best use all the knowledge in the petroleum sector to improve the energy picture in a global setting?
X-ALT-DESC:How could we best use all the knowledge in the petroleum sector to improve the energy picture in a global setting?
LOCATION:Rosenkildehuset
END:VEVENT


END:VCALENDAR



