
BEGIN:VCALENDAR
VERSION:2.0
PRODID:-//MarkedsPartner AS//Umbraco CMS//NO
TIMEZONE-ID:Europe/Oslo
X-WR-TIMEZONE:Europe/Oslo


BEGIN:VEVENT
UID:11eba13204aa4cc283dcf403f9e86d07
URL:https://stavangernaering-2023.azurewebsites.net/en/events/archive/energy-capital_jan2024/
ORGANIZER;CN=Ola Normann:MAILTO:ola.normann@markedspartner.no
DTSTAMP:20240110T173000Z
DTSTART:20240110T173000Z
DTEND:20240110T200000Z
LAST-MODIFIED:20240114T172751Z
SUMMARY:The Energy Capital
DESCRIPTION:The Stavanger region has built a central position in the energy market over the past 50 years. At this event we will share some thoughts on where we stand today and what is the next step.
X-ALT-DESC:The Stavanger region has built a central position in the energy market over the past 50 years. At this event we will share some thoughts on where we stand today and what is the next step.
LOCATION:Rosenkildehuset
END:VEVENT


END:VCALENDAR



