
BEGIN:VCALENDAR
VERSION:2.0
PRODID:-//MarkedsPartner AS//Umbraco CMS//NO
TIMEZONE-ID:Europe/Oslo
X-WR-TIMEZONE:Europe/Oslo


BEGIN:VEVENT
UID:1a6d4f61fa894839aa206d7f401c9068
URL:https://stavangernaering-2023.azurewebsites.net/en/events/archive/energistafetten_25/
ORGANIZER;CN=Ola Normann:MAILTO:ola.normann@markedspartner.no
DTSTAMP:20250524T090000Z
DTSTART:20250524T090000Z
DTEND:20250524T090000Z
LAST-MODIFIED:20250526T090530Z
SUMMARY:Energistafetten 2025
DESCRIPTION:Join the Stavanger Chamber International relay team for EnergiStafetten the 24th of May.
X-ALT-DESC:Join the Stavanger Chamber International relay team for EnergiStafetten the 24th of May.
LOCATION:Forum Expo 
END:VEVENT


END:VCALENDAR



