
BEGIN:VCALENDAR
VERSION:2.0
PRODID:-//MarkedsPartner AS//Umbraco CMS//NO
TIMEZONE-ID:Europe/Oslo
X-WR-TIMEZONE:Europe/Oslo


BEGIN:VEVENT
UID:2baa062fb11841ac9b5b7564850fddd9
URL:https://stavangernaering-2023.azurewebsites.net/en/events/archive/energistafetten-2024/
ORGANIZER;CN=Ola Normann:MAILTO:ola.normann@markedspartner.no
DTSTAMP:20240601T100000Z
DTSTART:20240601T100000Z
DTEND:20240601T100000Z
LAST-MODIFIED:20240602T183335Z
SUMMARY:Energistafetten 2024
DESCRIPTION:Join the Stavanger Chamber International relay team for EnergiStafetten the 1st of June. We need 10 eager runners!
X-ALT-DESC:Join the Stavanger Chamber International relay team for EnergiStafetten the 1st of June. We need 10 eager runners!
LOCATION:Forum Expo 
END:VEVENT


END:VCALENDAR



