
BEGIN:VCALENDAR
VERSION:2.0
PRODID:-//MarkedsPartner AS//Umbraco CMS//NO
TIMEZONE-ID:Europe/Oslo
X-WR-TIMEZONE:Europe/Oslo


BEGIN:VEVENT
UID:7644b733d23f40f4b2e7091d3115de34
URL:https://stavangernaering-2023.azurewebsites.net/en/events/archive/energistafetten-2023/
ORGANIZER;CN=Ola Normann:MAILTO:ola.normann@markedspartner.no
DTSTAMP:20230603T100000Z
DTSTART:20230603T100000Z
DTEND:20230603T100000Z
LAST-MODIFIED:20230605T091657Z
SUMMARY:Are you a relay runner? 
DESCRIPTION:Join the Stavanger Chamber International relay team for EnergiStafetten the 3rd of June. We need 10 eager runners!
X-ALT-DESC:Join the Stavanger Chamber International relay team for EnergiStafetten the 3rd of June. We need 10 eager runners!
LOCATION:Forum Expo 
END:VEVENT


END:VCALENDAR



