
BEGIN:VCALENDAR
VERSION:2.0
PRODID:-//MarkedsPartner AS//Umbraco CMS//NO
TIMEZONE-ID:Europe/Oslo
X-WR-TIMEZONE:Europe/Oslo


BEGIN:VEVENT
UID:35d98cc130e1426d8bcd1ce095017abc
URL:https://stavangernaering-2023.azurewebsites.net/en/events/archive/employment-rights/
ORGANIZER;CN=Ola Normann:MAILTO:ola.normann@markedspartner.no
DTSTAMP:20191121T170000Z
DTSTART:20191121T170000Z
DTEND:20191121T183000Z
LAST-MODIFIED:20200612T113327Z
SUMMARY:Employment Rights
DESCRIPTION:Get updated on Norwegian labour law.
X-ALT-DESC:Get updated on Norwegian labour law.
LOCATION:Rosenkildehuset
END:VEVENT


END:VCALENDAR



