
BEGIN:VCALENDAR
VERSION:2.0
PRODID:-//MarkedsPartner AS//Umbraco CMS//NO
TIMEZONE-ID:Europe/Oslo
X-WR-TIMEZONE:Europe/Oslo


BEGIN:VEVENT
UID:e932074e90b04f438580c0c7a8dedfb9
URL:https://stavangernaering-2023.azurewebsites.net/en/events/archive/election-night-2023/
ORGANIZER;CN=Ola Normann:MAILTO:ola.normann@markedspartner.no
DTSTAMP:20230830T163000Z
DTSTART:20230830T163000Z
DTEND:20230830T190000Z
LAST-MODIFIED:20230831T085117Z
SUMMARY:Election dilemmas
DESCRIPTION:The next election in Norway will take place September 11th (municipality and county). How does the Norwegian democracy work in real life, and how are you able to take part of the discussion and get involved?
X-ALT-DESC:The next election in Norway will take place September 11th (municipality and county). How does the Norwegian democracy work in real life, and how are you able to take part of the discussion and get involved?
LOCATION:Rosenkildehuset
END:VEVENT


END:VCALENDAR



