
BEGIN:VCALENDAR
VERSION:2.0
PRODID:-//MarkedsPartner AS//Umbraco CMS//NO
TIMEZONE-ID:Europe/Oslo
X-WR-TIMEZONE:Europe/Oslo


BEGIN:VEVENT
UID:9b17275c6e89447580da0e2a84da5ca0
URL:https://stavangernaering-2023.azurewebsites.net/en/events/archive/economy-and-savings_2022/
ORGANIZER;CN=Ola Normann:MAILTO:ola.normann@markedspartner.no
DTSTAMP:20221004T163000Z
DTSTART:20221004T163000Z
DTEND:20221004T181500Z
LAST-MODIFIED:20221005T054713Z
SUMMARY:Economy and saving
DESCRIPTION:8 important things to know for expats living in Norway.
X-ALT-DESC:8 important things to know for expats living in Norway.
LOCATION:Rosenkildehuset, Strandkaien 6, 4005 Stavanger
END:VEVENT


END:VCALENDAR



