
BEGIN:VCALENDAR
VERSION:2.0
PRODID:-//MarkedsPartner AS//Umbraco CMS//NO
TIMEZONE-ID:Europe/Oslo
X-WR-TIMEZONE:Europe/Oslo


BEGIN:VEVENT
UID:d19fd890acfa4821b199fb28dde61acf
URL:https://stavangernaering-2023.azurewebsites.net/en/events/archive/eco-system-for-startups_-sep-2023/
ORGANIZER;CN=Ola Normann:MAILTO:ola.normann@markedspartner.no
DTSTAMP:20230919T163000Z
DTSTART:20230919T163000Z
DTEND:20230919T190000Z
LAST-MODIFIED:20230919T202218Z
SUMMARY:ECOSYSTEM for startups: Business plan, finances and budget
DESCRIPTION:This is our third event in the ECOSYSTEM series. In this session you will learn about the importance of creating a budget and a business plan!
X-ALT-DESC:This is our third event in the ECOSYSTEM series. In this session you will learn about the importance of creating a budget and a business plan!
LOCATION:Rosenkildehuset, Strandkaien 6, 4005 Stavanger
END:VEVENT


END:VCALENDAR



