
BEGIN:VCALENDAR
VERSION:2.0
PRODID:-//MarkedsPartner AS//Umbraco CMS//NO
TIMEZONE-ID:Europe/Oslo
X-WR-TIMEZONE:Europe/Oslo


BEGIN:VEVENT
UID:7a463dc82ced4ec0913cf97f982832bd
URL:https://stavangernaering-2023.azurewebsites.net/en/events/archive/eco-system-for-startups_-nov2023/
ORGANIZER;CN=Ola Normann:MAILTO:ola.normann@markedspartner.no
DTSTAMP:20231121T173000Z
DTSTART:20231121T173000Z
DTEND:20231121T200000Z
LAST-MODIFIED:20231122T101137Z
SUMMARY:ECOSYSTEM for startups: Scale ups, funding and growth
DESCRIPTION:At this event you will meet new companies who have been through the circle of challenges, from an idea, all the startup issues, finding investors, funds and getting into the real marked and making money.
X-ALT-DESC:At this event you will meet new companies who have been through the circle of challenges, from an idea, all the startup issues, finding investors, funds and getting into the real marked and making money.
LOCATION:Innovation Dock, Bryggerikaien 18, 4014 Svg
END:VEVENT


END:VCALENDAR



