
BEGIN:VCALENDAR
VERSION:2.0
PRODID:-//MarkedsPartner AS//Umbraco CMS//NO
TIMEZONE-ID:Europe/Oslo
X-WR-TIMEZONE:Europe/Oslo


BEGIN:VEVENT
UID:25750b7595a541468fe8af745d1a018f
URL:https://stavangernaering-2023.azurewebsites.net/en/events/archive/eco-system-for-startups_-march-2023/
ORGANIZER;CN=Ola Normann:MAILTO:ola.normann@markedspartner.no
DTSTAMP:20230316T173000Z
DTSTART:20230316T173000Z
DTEND:20230316T200000Z
LAST-MODIFIED:20230319T174646Z
SUMMARY:ECOSYSTEM for startups: From idea to business
DESCRIPTION:It is a jungle out there! At this event we will share useful information about different types of people and organizations who can help you develop your idea. Getting the right advice can be the difference between success and failure.
X-ALT-DESC:It is a jungle out there! At this event we will share useful information about different types of people and organizations who can help you develop your idea. Getting the right advice can be the difference between success and failure.
LOCATION:Rosenkildehuset, Strandkaien 2, 4005 Stavanger
END:VEVENT


END:VCALENDAR



