
BEGIN:VCALENDAR
VERSION:2.0
PRODID:-//MarkedsPartner AS//Umbraco CMS//NO
TIMEZONE-ID:Europe/Oslo
X-WR-TIMEZONE:Europe/Oslo


BEGIN:VEVENT
UID:8a4ab6de429e44d98ba6af1ceb6be5bf
URL:https://stavangernaering-2023.azurewebsites.net/en/events/archive/eco-system-for-startups_-feb-2023/
ORGANIZER;CN=Ola Normann:MAILTO:ola.normann@markedspartner.no
DTSTAMP:20230208T173000Z
DTSTART:20230208T173000Z
DTEND:20230208T200000Z
LAST-MODIFIED:20230209T064541Z
SUMMARY:ECOSYSTEM for startups: Idea generation and design thinking
DESCRIPTION:Welcome to our new event series: Ecosystem for startups! Everyone interested in entrepreneurship and development is welcome. 

At this first event we will talk about idea generation and design thinking. How should you turn your idea into success?
X-ALT-DESC:Welcome to our new event series: Ecosystem for startups! Everyone interested in entrepreneurship and development is welcome. 

At this first event we will talk about idea generation and design thinking. How should you turn your idea into success?
LOCATION:Rosenkildehuset, Strandkaien 6, 4005 Stavanger
END:VEVENT


END:VCALENDAR



