
BEGIN:VCALENDAR
VERSION:2.0
PRODID:-//MarkedsPartner AS//Umbraco CMS//NO
TIMEZONE-ID:Europe/Oslo
X-WR-TIMEZONE:Europe/Oslo


BEGIN:VEVENT
UID:93889ea39e6e49419f06576d145683de
URL:https://stavangernaering-2023.azurewebsites.net/en/events/archive/driving-license_-october2024/
ORGANIZER;CN=Ola Normann:MAILTO:ola.normann@markedspartner.no
DTSTAMP:20241015T163000Z
DTSTART:20241015T163000Z
DTEND:20241015T183000Z
LAST-MODIFIED:20241017T111917Z
SUMMARY:Driver's license in Norway 
DESCRIPTION:An informative evening on maintaining and getting your driver`s licenses in Norway, with a particular focus on safety and prevention related to winter.
X-ALT-DESC:An informative evening on maintaining and getting your driver`s licenses in Norway, with a particular focus on safety and prevention related to winter.
LOCATION:Rosenkildehuset, Strandkaien 6, 4005 Stavanger
END:VEVENT


END:VCALENDAR



