
BEGIN:VCALENDAR
VERSION:2.0
PRODID:-//MarkedsPartner AS//Umbraco CMS//NO
TIMEZONE-ID:Europe/Oslo
X-WR-TIMEZONE:Europe/Oslo


BEGIN:VEVENT
UID:314e06aedf11462d8b462eb6744646a4
URL:https://stavangernaering-2023.azurewebsites.net/en/events/archive/driving-license_-march2024/
ORGANIZER;CN=Ola Normann:MAILTO:ola.normann@markedspartner.no
DTSTAMP:20240416T163000Z
DTSTART:20240416T163000Z
DTEND:20240416T183000Z
LAST-MODIFIED:20240417T082346Z
SUMMARY:Driver's license in Norway 
DESCRIPTION:An informative evening on maintaining and getting your driver`s licenses in Norway, with a particular focus on safety and prevention related to the four seasons.
X-ALT-DESC:An informative evening on maintaining and getting your driver`s licenses in Norway, with a particular focus on safety and prevention related to the four seasons.
LOCATION:Rosenkildehuset, Strandkaien 6, 4005 Stavanger
END:VEVENT


END:VCALENDAR



