
BEGIN:VCALENDAR
VERSION:2.0
PRODID:-//MarkedsPartner AS//Umbraco CMS//NO
TIMEZONE-ID:Europe/Oslo
X-WR-TIMEZONE:Europe/Oslo


BEGIN:VEVENT
UID:8a301615d5cd4706b244356c3691d631
URL:https://stavangernaering-2023.azurewebsites.net/en/events/archive/driving-license-_oct2023/
ORGANIZER;CN=Ola Normann:MAILTO:ola.normann@markedspartner.no
DTSTAMP:20231101T173000Z
DTSTART:20231101T173000Z
DTEND:20231101T200000Z
LAST-MODIFIED:20231102T084529Z
SUMMARY:Driver's license in Norway 
DESCRIPTION:An informative evening on maintaining and getting your driver`s licenses in Norway, with a particular focus on safety and prevention related to the four seasons.
X-ALT-DESC:An informative evening on maintaining and getting your driver`s licenses in Norway, with a particular focus on safety and prevention related to the four seasons.
LOCATION:Rosenkildehuset, Strandkaien 6, 4005 Stavanger
END:VEVENT


END:VCALENDAR



