
BEGIN:VCALENDAR
VERSION:2.0
PRODID:-//MarkedsPartner AS//Umbraco CMS//NO
TIMEZONE-ID:Europe/Oslo
X-WR-TIMEZONE:Europe/Oslo


BEGIN:VEVENT
UID:d148aea199134553afccd969674a8206
URL:https://stavangernaering-2023.azurewebsites.net/en/events/archive/domkirken_111224/
ORGANIZER;CN=Ola Normann:MAILTO:ola.normann@markedspartner.no
DTSTAMP:20241211T120000Z
DTSTART:20241211T120000Z
DTEND:20241211T130000Z
LAST-MODIFIED:20241211T180505Z
SUMMARY:Historical hour in Domkirken
DESCRIPTION:Do you want to learn more about Domkirken? Join us for a guided tour.
X-ALT-DESC:Do you want to learn more about Domkirken? Join us for a guided tour.
LOCATION:Domkirken, City center 
END:VEVENT


END:VCALENDAR



